BEGIN:VCALENDAR
VERSION:2.0
PRODID:-//Aphrodite Cooks - ECPv6.15.20//NONSGML v1.0//EN
CALSCALE:GREGORIAN
METHOD:PUBLISH
X-ORIGINAL-URL:https://aphroditecooks.com
X-WR-CALDESC:Events for Aphrodite Cooks
REFRESH-INTERVAL;VALUE=DURATION:PT1H
X-Robots-Tag:noindex
X-PUBLISHED-TTL:PT1H
BEGIN:VTIMEZONE
TZID:America/Toronto
BEGIN:DAYLIGHT
TZOFFSETFROM:-0500
TZOFFSETTO:-0400
TZNAME:EDT
DTSTART:20230312T070000
END:DAYLIGHT
BEGIN:STANDARD
TZOFFSETFROM:-0400
TZOFFSETTO:-0500
TZNAME:EST
DTSTART:20231105T060000
END:STANDARD
BEGIN:DAYLIGHT
TZOFFSETFROM:-0500
TZOFFSETTO:-0400
TZNAME:EDT
DTSTART:20240310T070000
END:DAYLIGHT
BEGIN:STANDARD
TZOFFSETFROM:-0400
TZOFFSETTO:-0500
TZNAME:EST
DTSTART:20241103T060000
END:STANDARD
BEGIN:DAYLIGHT
TZOFFSETFROM:-0500
TZOFFSETTO:-0400
TZNAME:EDT
DTSTART:20250309T070000
END:DAYLIGHT
BEGIN:STANDARD
TZOFFSETFROM:-0400
TZOFFSETTO:-0500
TZNAME:EST
DTSTART:20251102T060000
END:STANDARD
BEGIN:DAYLIGHT
TZOFFSETFROM:-0500
TZOFFSETTO:-0400
TZNAME:EDT
DTSTART:20260308T070000
END:DAYLIGHT
BEGIN:STANDARD
TZOFFSETFROM:-0400
TZOFFSETTO:-0500
TZNAME:EST
DTSTART:20261101T060000
END:STANDARD
END:VTIMEZONE
BEGIN:VTIMEZONE
TZID:UTC
BEGIN:STANDARD
TZOFFSETFROM:+0000
TZOFFSETTO:+0000
TZNAME:UTC
DTSTART:20230101T000000
END:STANDARD
END:VTIMEZONE
BEGIN:VEVENT
DTSTART;TZID=America/Toronto:20250314T190000
DTEND;TZID=America/Toronto:20250314T210000
DTSTAMP:20260423T234826
CREATED:20250212T175216Z
LAST-MODIFIED:20250310T123440Z
UID:10000026-1741978800-1741986000@aphroditecooks.com
SUMMARY:Make and Take - Tiramisu - Two Ways - Friday\, March 14\, 2025
DESCRIPTION:Make and Take\, the Cooking class that focuses on a dish that we will guide you through the making of from start to finish. \nIn this class you will be lead by Domenic Ubaldino\, co-owner of Aphrodite Cooks and tiramisu expert. \nThis class will have you making a 8.5 in x 6.5 tiramisu. All ingredients and containers are provided in the price. You will make this dish and then take it home to enjoy with friends and family for the weekend. This size tiramisu will feed from 4 to 6 portions. \nA tiramisu will be served at the end of the class that was made previously so you can see how it tastes. \nThis class will be about 1.5 hours in length. \nPrice includes HST \nMinimum Class Size: 8 \nMaximum Class Size: 16 \nMenu: \nTraditional Tiramisu – coffee\, mascarpone cheese\, eggs\, ladyfinger cookies – contains gluten and dairy – you will make this and this home \nMatcha Yuzu Tiramisu – this one will be demonstrated and sampled in the class \n*no substitutions \nPrice is per person and the 13% hst. Includes the class and materials for tiramisu and tiramisu for sampling\nMaximum class: 16 guests \nPlease refer to our FAQ page for our cancelation policy
URL:https://aphroditecooks.com/event/make-and-take-tiramisu-two-ways-friday-march-14-2025/
LOCATION:In-Person At\, 37 Advance Rd\, 105\, Etobicoke\, Toronto\, Ontario\, Canada
CATEGORIES:In Person Cooking
ATTACH;FMTTYPE=image/jpeg:https://aphroditecooks.com/wp-content/uploads/2024/10/tiramisu.jpg
END:VEVENT
BEGIN:VEVENT
DTSTART;TZID=America/Toronto:20250307T183000
DTEND;TZID=America/Toronto:20250307T213000
DTSTAMP:20260423T234826
CREATED:20241001T214418Z
LAST-MODIFIED:20241024T223252Z
UID:10000008-1741372200-1741383000@aphroditecooks.com
SUMMARY:Make and Take - Spinach and Ricotta Lasagna - Friday\, March 7\, 2024
DESCRIPTION:Lasagna is the ultimate comfort food. \nChef Alec Kerr will teach you in our Make and Take class the steps to make a delicious lasagna. You will learn to make this dish with fresh lasagna noodles made in class and traditional tomato basil sauce. You will then assemble your own 2 lb lasagna to take home and enjoy with family and friends \nPre class snacks and drinks will be provided. \nMinimum Class Size: 8 guests\nMaximum Class Size: 18 guests \nPrice is per person and the 13% hst. \nMENU\nSpinach and Ricotta Lasagna – 2 lb lasagna feeds about 4 people. You will take this home to enjoy. \n*menu subject to change \n**some dietary restrictions and allergies can be accommodated \nCancellation Policy \nFor scheduled cooking classes: \nMore than 1 week notice: Refund will be provided. Or rescheduling/transfer to another will be allowed. \nLess than 72 hours notice: No refund\, rescheduling or transfer will be allowed. \nNo Notice : Where a student fails to inform Aphrodite Cooks or fails to attend registered class – NO Rescheduled Class or refund will be issued. \nGift Certificate Use: Where a student intends to use a gift \ncertificate and is unable to attend a class\, the above Cancellation policy is in effect.
URL:https://aphroditecooks.com/event/make-and-take-spinach-and-ricotta-lasagna/
LOCATION:In-Person At\, 37 Advance Rd\, 105\, Etobicoke\, Toronto\, Ontario\, Canada
CATEGORIES:In Person Cooking
ATTACH;FMTTYPE=image/jpeg:https://aphroditecooks.com/wp-content/uploads/2024/10/shutterstock_1738952648-scaled-e1722441053944.jpg
END:VEVENT
BEGIN:VEVENT
DTSTART;TZID=America/Toronto:20250304T190000
DTEND;TZID=America/Toronto:20250304T210000
DTSTAMP:20260423T234826
CREATED:20241120T201750Z
LAST-MODIFIED:20250212T174749Z
UID:10000016-1741114800-1741122000@aphroditecooks.com
SUMMARY:Make and Take - Chocolate Truffles - Tuesday\, March 4\, 2025
DESCRIPTION:Join us in the kitchen with Mary Luz Meijia\,  a Level III Certified Chocolate Taster through the International Institute of Chocolate and Cacao Tasting (UK)\, and George Brown College (Toronto) Chocolate Theory\, for an evening of chocolate fun. \nYou will learn how to make chocolate truffles and then apply a little of your own creativity to your own personal batch of a minimum of 12 truffles that you will get to take home. Using quality chocolate and creative garnishes to \nLight refreshments and drinks will be provided during the class. \nMinimum Class Size: 12 \nMaximum Class Size: 18 \nCancellation Policy \nFor scheduled cooking classes: \nMore than 1 week notice: Refund can be provided. Or rescheduling/transfer to another will be allowed. \nLess than 72 hours notice: No refund\, rescheduling or transfer will be allowed. \nNo Notice : Where a student fails to inform Aphrodite Cooks or fails to attend registered class – NO Rescheduled Class or refund will be issued. \nGift Certificate Use: Where a student intends to use a gift certificate and is unable to attend a class\, the above Cancellation policy is in effect.
URL:https://aphroditecooks.com/event/make-and-take-chocolate-truffles-wednesday-february-12-2025/
LOCATION:In-Person At\, 37 Advance Rd\, 105\, Etobicoke\, Toronto\, Ontario\, Canada
CATEGORIES:In Person Cooking
ATTACH;FMTTYPE=image/png:https://aphroditecooks.com/wp-content/uploads/2024/11/chocolate-truffles2-e1732133857156.png
END:VEVENT
BEGIN:VEVENT
DTSTART;TZID=America/Toronto:20250301T183000
DTEND;TZID=America/Toronto:20250301T213000
DTSTAMP:20260423T234826
CREATED:20241129T164339Z
LAST-MODIFIED:20241129T164339Z
UID:10000019-1740853800-1740864600@aphroditecooks.com
SUMMARY:Lemons and Olives - An Introduction to the Middle East Kitchen - Saturday\, March 1\, 2025
DESCRIPTION:Join us in the kitchen for a hands on cooking class as we explore the flavours of the Middle East. We will discover that the dishes of that region and understand what makes them unique. \nMaximum Class Size: 16 \nMenu: \nRed Pepper and Walnut Spread \nGreen Salad with Lemon and Pomegranate Molasses \nChicken Tagine \nBasmati Vegetable Rice \n*menu subject to change \n*some dietary restrictions can be accommodated \nCancellation Policy \nFor scheduled cooking classes: \nMore than 1 week notice: Refund will be provided. Or rescheduling/transfer to another will be allowed. \nLess than 72 hours notice: No refund\, rescheduling or transfer will be allowed. \nNo Notice : Where a student fails to inform Aphrodite Cooks or fails to attend registered class – NO Rescheduled Class or refund will be issued. \nGift Certificate Use: Where a student intends to use a gift \ncertificate and is unable to attend a class\, the above Cancellation policy is in effect. \n  \n  \n 
URL:https://aphroditecooks.com/event/lemons-and-olives-an-introduction-to-the-middle-east-kitchen-saturday-march-1-2025/
LOCATION:In-Person At\, 37 Advance Rd\, 105\, Etobicoke\, Toronto\, Ontario\, Canada
CATEGORIES:In Person Cooking
ATTACH;FMTTYPE=image/jpeg:https://aphroditecooks.com/wp-content/uploads/2024/11/shutterstock_2257846795-scaled-e1732898601843.jpg
END:VEVENT
BEGIN:VEVENT
DTSTART;TZID=America/Toronto:20250214T183000
DTEND;TZID=America/Toronto:20250214T213000
DTSTAMP:20260423T234826
CREATED:20241128T193101Z
LAST-MODIFIED:20250207T222355Z
UID:10000017-1739557800-1739568600@aphroditecooks.com
SUMMARY:Valentine's Day Couples Cooking Class - One Night in Paris
DESCRIPTION:Spend an evening with your plus 1 in our kitchen on Valentine’s Day as we whisk you off to Paris. \nIn this hands-on cooking class you will work together with other couples to help make the menu that is listed below. Wine will be part of your dinner and is included in the price. \nMaximum Class Size: 24 guests \nPrice is per person. Please purchase 2 spots for a couple. \nMenu: \nMini Croque Monsieur – contains ham and cheese \nGougeres – Gruyere Cheese Puffs \nBouillabaisse – fish and seafood stew \nFrisee and Endive Salad with Pears\, Goat Cheese and Walnuts \nChocolate Souflee \n*menu subject to change \n**some dietary restrictions and allergies can be accommodated \nCancellation Policy \nFor scheduled cooking classes: \nMore than 1 week notice: Refund can be provided. Or rescheduling/transfer to another will be allowed. \nLess than 72 hours notice: No refund\, rescheduling or transfer will be allowed. \nNo Notice : Where a student fails to inform Aphrodite Cooks or fails to attend registered class – NO Rescheduled Class or refund will be issued. \nGift Certificate Use: Where a student intends to use a gift certificate and is unable to attend a class\, the above Cancellation policy is in effect. \n 
URL:https://aphroditecooks.com/event/valentines-day-couples-cooking-class-one-night-in-paris/
LOCATION:In-Person At\, 37 Advance Rd\, 105\, Etobicoke\, Toronto\, Ontario\, Canada
CATEGORIES:In Person Cooking
ATTACH;FMTTYPE=image/jpeg:https://aphroditecooks.com/wp-content/uploads/2024/11/valentines-day-e1732822252849.jpg
END:VEVENT
BEGIN:VEVENT
DTSTART;TZID=America/Toronto:20250208T183000
DTEND;TZID=America/Toronto:20250208T213000
DTSTAMP:20260423T234826
CREATED:20241119T165518Z
LAST-MODIFIED:20241119T165518Z
UID:10000015-1739039400-1739050200@aphroditecooks.com
SUMMARY:Dim Sum Fun - Saturday\, February 8\, 2025
DESCRIPTION:Join us for a hands on cooking class where you will learn some dishes that are popular during dim sum. \nAfter the cooking is done you will sit down and enjoy the food that you have made. \nMinimum Class Size: 8 \nMaximum Class Size: 18 \nMenu: \nPork Soup Dumplings \nCrispy Sweet and Savory Dumplings – made with chicken \nDeep Fried Shrimp Dumplings \nCoconut Tarts \n*menu subject to change \n**some dietary restrictions and allergies can be accommodated \nCancellation Policy \nFor scheduled cooking classes: \nMore than 1 week notice: Refund can be provided. Or rescheduling/transfer to another will be allowed. \nLess than 72 hours notice: No refund\, rescheduling or transfer will be allowed. \nNo Notice : Where a student fails to inform Aphrodite Cooks or fails to attend registered class – NO Rescheduled Class or refund will be issued. \nGift Certificate Use: Where a student intends to use a gift certificate and is unable to attend a class\, the above Cancellation policy is in effect. \n 
URL:https://aphroditecooks.com/event/dim-sum-fun-saturday-february-8-2025/
LOCATION:In-Person At\, 37 Advance Rd\, 105\, Etobicoke\, Toronto\, Ontario\, Canada
CATEGORIES:In Person Cooking
ATTACH;FMTTYPE=image/heic:https://aphroditecooks.com/wp-content/uploads/2024/11/IMG_3684-scaled-e1732035286518.jpg
END:VEVENT
BEGIN:VEVENT
DTSTART;TZID=America/Toronto:20250125T183000
DTEND;TZID=America/Toronto:20250125T213000
DTSTAMP:20260423T234826
CREATED:20241024T193712Z
LAST-MODIFIED:20241107T141527Z
UID:10000011-1737829800-1737840600@aphroditecooks.com
SUMMARY:Chinese New Year Dumplings - Saturday\, January 25\, 2025
DESCRIPTION:Join us in the kitchen on Saturday January 25th as we celebrate the year of the Snake! \nLearn to make dumplings and then you will sit down and enjoy what you have made. \nMinimum Class Size: 8 \nMaximum Class Size: 18 \nPrice is per person and the 13% hst. Includes the class and dinner. \nMenu: This menu contains\, gluten\, seafood and pork \nGinger Chicken Potstickers \nSiu Mai – Steamed Pork and Shrimp Dumplings \nHar Gao – Steamed Shrimp Dumplings \nBlack Sesame Croquettes \n*menu subject to change \n**some dietary restrictions and allergies can be accommodated \nCancellation Policy \nFor scheduled cooking classes: \nMore than 1 week notice: Refund can be provided. Or rescheduling/transfer to another will be allowed. \nLess than 72 hours notice: No refund\, rescheduling or transfer will be allowed. \nNo Notice : Where a student fails to inform Aphrodite Cooks or fails to attend registered class – NO Rescheduled Class or refund will be issued. \nGift Certificate Use: Where a student intends to use a gift certificate and is unable to attend a class\, the above Cancellation policy is in effect.
URL:https://aphroditecooks.com/event/chinese-new-year-dumplings-saturday-january-25-2025/
LOCATION:In-Person At\, 37 Advance Rd\, 105\, Etobicoke\, Toronto\, Ontario\, Canada
CATEGORIES:In Person Cooking
ATTACH;FMTTYPE=image/jpeg:https://aphroditecooks.com/wp-content/uploads/2024/10/ginger-chicken-potstickers-e1729798623518.jpg
END:VEVENT
BEGIN:VEVENT
DTSTART;TZID=UTC:20250121T183000
DTEND;TZID=UTC:20250121T213000
DTSTAMP:20260423T234826
CREATED:20241001T210901Z
LAST-MODIFIED:20250102T192944Z
UID:10000004-1737484200-1737495000@aphroditecooks.com
SUMMARY:Make and Take - Knife Skills 201 - Tuesday\, January 21\, 2025
DESCRIPTION:In this class we will be expanding on the knife skills from 101 and teaching you more about your knives can do for you. \nStudents will learn cutting techniques while making stuffing\, how to butterfly and stuff a pork tenderloin & chicken breast \, how to tie a butcher’s knot\, prepare a mushroom duxelle\, make a glaze and go through the process on how the sauce was made. \nIt is recommened that you take the Knife Skills 101 class previously but it is not mandatory. \nPrice is per person and the 13% hst. Includes the class and 2 stuffed pork tenderloins and 2 stuffed chicken breasts to take home. \nPre-class snacks and drinks will be provided. \nMenu: \nHoney glazed pork tenderloin stuffed with kale almond pesto  and apples – you will make 2 of these pork tenderloins\, 1 to eat in class and 1 to take home \nApple cider peppercorn sauce \nMushroom duxelle stuffed chicken breast – 2 stuffed chicken breasts to take home \n*menu subject to change \n**some dietary restrictions and allergies can be accommodated \nCancellation Policy \nFor scheduled cooking classes: \nMore than 1 week notice: Refund can be provided. Or rescheduling/transfer to another will be allowed. \nLess than 72 hours notice: No refund\, rescheduling or transfer will be allowed. \nNo Notice : Where a student fails to inform Aphrodite Cooks or fails to attend registered class – NO Rescheduled Class or refund will be issued. \nGift Certificate Use: Where a student intends to use a gift certificate and is unable to attend a class\, the above Cancellation policy is in effect.
URL:https://aphroditecooks.com/event/make-and-take-knife-skills-201/
LOCATION:In-Person At\, 37 Advance Rd\, 105\, Etobicoke\, Toronto\, Ontario\, Canada
CATEGORIES:In Person Cooking
ATTACH;FMTTYPE=image/jpeg:https://aphroditecooks.com/wp-content/uploads/2024/10/stuffed-pork-tenderloin.jpg
END:VEVENT
BEGIN:VEVENT
DTSTART;TZID=America/Toronto:20250118T183000
DTEND;TZID=America/Toronto:20250118T213000
DTSTAMP:20260423T234826
CREATED:20241112T212915Z
LAST-MODIFIED:20241112T212915Z
UID:10000014-1737225000-1737235800@aphroditecooks.com
SUMMARY:Under the Sea - Saturday\, January 18\, 2025
DESCRIPTION:Love seafood and are curious about cooking or working with the creatures of the sea. \nJoin us in the kitchen for a hands cooking class as we explore dishes featuring seafood. You help make the dishes and then sit down and enjoy the dishes that you made. \nMinimum Class Size: 8 \nMaximum Class Size: 18 \nMenu: \nFresh Shucked Oysters with Jalapeno Cilantro Sauce \nPasilla Pepper Shrimp on Sourdough \nOctopus Bruschetta \nTuna Tartar Tostadas \n*menu subject to change \n**some dietary restrictions and allergies can be accommodated \nCancellation Policy \nFor scheduled cooking classes: \nMore than 1 week notice: Refund can be provided. Or rescheduling/transfer to another will be allowed. \nLess than 72 hours notice: No refund\, rescheduling or transfer will be allowed. \nNo Notice : Where a student fails to inform Aphrodite Cooks or fails to attend registered class – NO Rescheduled Class or refund will be issued. \nGift Certificate Use: Where a student intends to use a gift certificate and is unable to attend a class\, the above Cancellation policy is in effect.
URL:https://aphroditecooks.com/event/under-the-sea-saturday-january-18-2025/
LOCATION:In-Person At\, 37 Advance Rd\, 105\, Etobicoke\, Toronto\, Ontario\, Canada
CATEGORIES:In Person Cooking
ATTACH;FMTTYPE=image/jpeg:https://aphroditecooks.com/wp-content/uploads/2024/11/pasilla-shrimp-scaled-e1731446942701.jpg
END:VEVENT
BEGIN:VEVENT
DTSTART;TZID=America/Toronto:20250111T183000
DTEND;TZID=America/Toronto:20250111T213000
DTSTAMP:20260423T234826
CREATED:20241001T213927Z
LAST-MODIFIED:20241024T223431Z
UID:10000007-1736620200-1736631000@aphroditecooks.com
SUMMARY:Pasta From Scratch - Saturday\, January 11\, 2025
DESCRIPTION:Students with learn and make two types of fresh pasta from scratch and will be paired with two different sauces. Join Chef Alec Kerr as he guides you through the art of pasta making. \nAfter the dishes are made you will get to sit down and enjoy the fruits of your labour. \nMinimum Class Size: 8 guests\nMaximum Class Size: 18 guests \nPrice is per person and the 13% hst. Includes the class and dinner. \nMENU \nPotato and pecorino culigiones stuffed with tomato & herb passata \nTagliatelle alla Ragu – all beef ragu \nSimple Salad \n*menu subject to change \n**some dietary restrictions and allergies can be accommodated \nCancellation Policy \nFor scheduled cooking classes: \nMore than 1 week notice: Refund will be provided. Or rescheduling/transfer to another will be allowed. \nLess than 72 hours notice: No refund\, rescheduling or transfer will be allowed. \nNo Notice : Where a student fails to inform Aphrodite Cooks or fails to attend registered class – NO Rescheduled Class or refund will be issued. \nGift Certificate Use: Where a student intends to use a gift certificate and is unable to attend a class\, the above Cancellation policy is in effect.
URL:https://aphroditecooks.com/event/pasta-from-scratch/
LOCATION:In-Person At\, 37 Advance Rd\, 105\, Etobicoke\, Toronto\, Ontario\, Canada
CATEGORIES:In Person Cooking
ATTACH;FMTTYPE=image/jpeg:https://aphroditecooks.com/wp-content/uploads/2024/10/shutterstock_2361379723-scaled-e1722441997637.jpg
END:VEVENT
BEGIN:VEVENT
DTSTART;TZID=America/Toronto:20250109T183000
DTEND;TZID=America/Toronto:20250109T213000
DTSTAMP:20260423T234826
CREATED:20241112T205434Z
LAST-MODIFIED:20241112T205559Z
UID:10000013-1736447400-1736458200@aphroditecooks.com
SUMMARY:Make and Take - Knife Skills 101 - Thursday January 9\, 2025
DESCRIPTION:Good knife skills are fundamental to cooking. Knowing how to use a knife properly will determine the success of your dish. \nDon’t know what the difference between a chef’s knife\, a paring knife and a bread knife. What’s a dice and a julienne? \nLet our chef instructors guide you through the beginnings of knife skills. \nIn this make and take class you will learn the basics of knife skills and what knives are used for what purpose. After you will take home a sampling of each of the recipes that you have made. \nMinimum Class Size: 8 \nMaximum Class Size: 12 \nMenu: \nMinestrone Soup \nGreen Mango Salad \nStuffed Chicken Thighs with Sundried Tomato and Artichoke \n*menu subject to change \n**some dietary restrictions and allergies can be accommodated \nCancellation Policy \nFor scheduled cooking classes: \nMore than 1 week notice: Refund can be provided. Or rescheduling/transfer to another will be allowed. \nLess than 72 hours notice: No refund\, rescheduling or transfer will be allowed. \nNo Notice : Where a student fails to inform Aphrodite Cooks or fails to attend registered class – NO Rescheduled Class or refund will be issued. \nGift Certificate Use: Where a student intends to use a gift certificate and is unable to attend a class\, the above Cancellation policy is in effect.
URL:https://aphroditecooks.com/event/make-and-take-knife-skills-101-thursday-january-9-2025/
LOCATION:In-Person At\, 37 Advance Rd\, 105\, Etobicoke\, Toronto\, Ontario\, Canada
CATEGORIES:In Person Cooking
ATTACH;FMTTYPE=image/jpeg:https://aphroditecooks.com/wp-content/uploads/2024/11/knife-skills-e1731444559410.jpg
END:VEVENT
BEGIN:VEVENT
DTSTART;TZID=America/Toronto:20241213T190000
DTEND;TZID=America/Toronto:20241213T210000
DTSTAMP:20260423T234826
CREATED:20241001T215243Z
LAST-MODIFIED:20241002T170051Z
UID:10000010-1734116400-1734123600@aphroditecooks.com
SUMMARY:Make and Take - Classic Tiramisu - Friday\, December 13\, 2024
DESCRIPTION:Make and Take\, the Cooking class that focuses on a dish that we will guide you through the making of from start to finish. \nIn this class you will be lead by Domenic Ubaldino\, co-owner of Aphrodite Cooks and tiramisu expert. \nThis class will have you making a 8.5 in x 6.5 tiramisu. All ingredients and containers are provided in the price. You will make this dish and then take it home to enjoy with friends and family for the weekend. This size tiramisu will feed from 4 to 6 portions. \nA tiramisu will be served at the end of the class that was made previously so you can see how it tastes. \nThis class will be about 1.5 hours in length. \nPrice includes HST \nMinimum Class Size: 8 \nMaximum Class Size: 16 \nMenu: \nTraditional tiramisu – coffee\, mascarpone cheese\, eggs\, ladyfinger cookies – contains gluten and dairy \n*no substitutions \nPrice is per person and the 13% hst. Includes the class and materials for tiramisu and tiramisu for sampling\nMaximum class: 16 guests \nPlease refer to our FAQ page for our cancelation policy
URL:https://aphroditecooks.com/event/make-and-take-classic-tiramisu/
LOCATION:In-Person At\, 37 Advance Rd\, 105\, Etobicoke\, Toronto\, Ontario\, Canada
CATEGORIES:In Person Cooking
ATTACH;FMTTYPE=image/jpeg:https://aphroditecooks.com/wp-content/uploads/2024/10/tiramisu.jpg
END:VEVENT
BEGIN:VEVENT
DTSTART;TZID=America/Toronto:20241116T183000
DTEND;TZID=America/Toronto:20241116T213000
DTSTAMP:20260423T234826
CREATED:20241001T214825Z
LAST-MODIFIED:20241026T144433Z
UID:10000009-1731781800-1731792600@aphroditecooks.com
SUMMARY:Introduction to the Vietnamese Kitchen - Saturday\, November 16\, 2024
DESCRIPTION:Love the flavours of South East Asia\, then join us in the kitchen for a hands-on cooking class with chef Vanessa Yeung. \nYou will learn to make some classic dishes found at your popular Vietnamese restaurant. \nPrice is per person and the 13% hst. Includes the class and dinner\nMaximum class: 18 guests \nMenu: \nGoi Cuon – Shrimp Fresh Rolls with Hoisin Sauce \nBanh Xeo – Crispy Vietnamese Crepes Stuffed with Shrimp and Fresh Herbs \nBun Bo Xa Ot – Steak with Noodle Salad and Pork Spring Rolls \nVietnamese Iced Coffee \n\n*menu subject to change \n\n**some dietary restrictions and allergies can be accommodated
URL:https://aphroditecooks.com/event/introduction-to-the-vietanmese-kitchen/
LOCATION:In-Person At\, 37 Advance Rd\, 105\, Etobicoke\, Toronto\, Ontario\, Canada
CATEGORIES:In Person Cooking
ATTACH;FMTTYPE=image/jpeg:https://aphroditecooks.com/wp-content/uploads/2024/10/bun-xeo-e1651075716957.jpg
END:VEVENT
BEGIN:VEVENT
DTSTART;TZID=America/Toronto:20241026T183000
DTEND;TZID=America/Toronto:20241026T213000
DTSTAMP:20260423T234826
CREATED:20241001T213349Z
LAST-MODIFIED:20241002T170627Z
UID:10000006-1729967400-1729978200@aphroditecooks.com
SUMMARY:French Bistro Classics - Saturday\, October 26\, 2024
DESCRIPTION:Join us for an evening of French Bistro classics . \nChef Alec Kerr will guide you through the ins and outs of cooking a steak properly as well as learning what makes a frites fantastic. \nPrice is per person and the 13% hst. Includes the class and dinner. \nMenu: \nFrench Onion Soup \nSkirt Steak with cafe de paris butter \nFrites with roasted garlic herb aoli \nBistro salad -Bib lettuce\, cucumber\, radish\, pickled shallots\, crispy onions (fried onions) herbs\nand red wine dijon vinaigrette \n*menu subject to change \n**some dietary restrictions and allergies can be accommodated \nCancellation Policy \nFor scheduled cooking classes: \nMore than 1 week notice: Refund can be provided. Or rescheduling/transfer to another will be allowed. \nLess than 72 hours notice: No refund\, rescheduling or transfer will be allowed. \nNo Notice : Where a student fails to inform Aphrodite Cooks or fails to attend registered class – NO Rescheduled Class or refund will be issued. \nGift Certificate Use: Where a student intends to use a gift certificate and is unable to attend a class\, the above Cancellation policy is in effect.
URL:https://aphroditecooks.com/event/french-bistro-classics/
LOCATION:In-Person At\, 37 Advance Rd\, 105\, Etobicoke\, Toronto\, Ontario\, Canada
CATEGORIES:In Person Cooking
ATTACH;FMTTYPE=image/jpeg:https://aphroditecooks.com/wp-content/uploads/2024/10/steak-frites-e1709139953554.jpg
END:VEVENT
BEGIN:VEVENT
DTSTART;TZID=UTC:20241024T183000
DTEND;TZID=UTC:20241024T213000
DTSTAMP:20260423T234826
CREATED:20241001T212712Z
LAST-MODIFIED:20241002T171026Z
UID:10000005-1729794600-1729805400@aphroditecooks.com
SUMMARY:Make and Take - The Art of Bao Buns - Thursday\, October 24\, 2024
DESCRIPTION:Chinese steamed buns have grown in popularity to be a staple dish in restaurants\, catered events and even short films. \nJoin us in the kitchen to learn how this humble little bun has wowed palates all over the world. \nMaximum Class Size: 14 guests \nPrice is per person and 13% \nMenu: \nScallion Flour Buns – 4 to take home \nChicken and Nappa Cabbage Stuffed Bao – 4 to take home \nOpen Bao Buns with Cilantro\, Green Onions\, Lemongrass Chicken and Spicy Hoisin – this will be sampled in class \n*menu subject to change \n*please advise of any allergies and dietary restrictions ahead of time. \nCancellation Policy \nFor scheduled cooking classes: \nMore than 1 week notice: Refund will be provided. Or rescheduling/transfer to another will be allowed. \nLess than 72 hours notice: No refund\, rescheduling or transfer will be allowed. \nNo Notice : Where a student fails to inform Aphrodite Cooks or fails to attend registered class – NO Rescheduled Class or refund will be issued. \nGift Certificate Use: Where a student intends to use a gift \ncertificate and is unable to attend a class\, the above Cancellation policy is in effect.
URL:https://aphroditecooks.com/event/make-and-take-the-art-of-bao-buns/
LOCATION:In-Person At\, 37 Advance Rd\, 105\, Etobicoke\, Toronto\, Ontario\, Canada
CATEGORIES:In Person Cooking
ATTACH;FMTTYPE=image/jpeg:https://aphroditecooks.com/wp-content/uploads/2024/10/bao-buns-scaled-e1722275789546.jpg
END:VEVENT
END:VCALENDAR