BEGIN:VCALENDAR
VERSION:2.0
PRODID:-//Aphrodite Cooks - ECPv6.15.20//NONSGML v1.0//EN
CALSCALE:GREGORIAN
METHOD:PUBLISH
X-WR-CALNAME:Aphrodite Cooks
X-ORIGINAL-URL:https://aphroditecooks.com
X-WR-CALDESC:Events for Aphrodite Cooks
REFRESH-INTERVAL;VALUE=DURATION:PT1H
X-Robots-Tag:noindex
X-PUBLISHED-TTL:PT1H
BEGIN:VTIMEZONE
TZID:America/Toronto
BEGIN:DAYLIGHT
TZOFFSETFROM:-0500
TZOFFSETTO:-0400
TZNAME:EDT
DTSTART:20250309T070000
END:DAYLIGHT
BEGIN:STANDARD
TZOFFSETFROM:-0400
TZOFFSETTO:-0500
TZNAME:EST
DTSTART:20251102T060000
END:STANDARD
BEGIN:DAYLIGHT
TZOFFSETFROM:-0500
TZOFFSETTO:-0400
TZNAME:EDT
DTSTART:20260308T070000
END:DAYLIGHT
BEGIN:STANDARD
TZOFFSETFROM:-0400
TZOFFSETTO:-0500
TZNAME:EST
DTSTART:20261101T060000
END:STANDARD
BEGIN:DAYLIGHT
TZOFFSETFROM:-0500
TZOFFSETTO:-0400
TZNAME:EDT
DTSTART:20270314T070000
END:DAYLIGHT
BEGIN:STANDARD
TZOFFSETFROM:-0400
TZOFFSETTO:-0500
TZNAME:EST
DTSTART:20271107T060000
END:STANDARD
END:VTIMEZONE
BEGIN:VEVENT
DTSTART;TZID=America/Toronto:20260606T130000
DTEND;TZID=America/Toronto:20260606T153000
DTSTAMP:20260419T100013
CREATED:20260416T151442Z
LAST-MODIFIED:20260416T151442Z
UID:5644-1780750800-1780759800@aphroditecooks.com
SUMMARY:Make and Take - Zeppole - Saturday June 6\, 2026
DESCRIPTION:Join us in the kitchen for a hands on class learning the art of zeppole. \nIn this class you will learn how to make choux pastry from sratch as well as 2 different flavours of pastry cream. \nYou will then be able to take what you made home. \nChef Instructor: Domenic Ubaldino \nClass Size: 14 \nMenu: \nZeppole filled with classic Italian custard\, chocolate custard \nSnacks and drinks will be provided \nCancellation Policy \nFor scheduled cooking classes: \nMore than 1 week notice: Refund can be provided. Or rescheduling/transfer to another will be allowed. \nLess than 72 hours notice: No refund\, rescheduling or transfer will be allowed. \nNo Notice : Where a student fails to inform Aphrodite Cooks or fails to attend registered class – NO Rescheduled Class or refund will be issued. \nGift Certificate Use: Where a student intends to use a gift certificate and is unable to attend a class\, the above Cancellation policy is in effect.
URL:https://aphroditecooks.com/event/make-and-take-zeppole-saturday-june-6-2026/
LOCATION:In-Person At\, 37 Advance Rd\, 105\, Etobicoke\, Toronto\, Ontario\, Canada
CATEGORIES:In Person Cooking
ATTACH;FMTTYPE=image/jpeg:https://aphroditecooks.com/wp-content/uploads/2025/04/zeppole-scaled-e1743600856645.jpg
END:VEVENT
END:VCALENDAR