BEGIN:VCALENDAR
VERSION:2.0
PRODID:-//Aphrodite Cooks - ECPv6.15.20//NONSGML v1.0//EN
CALSCALE:GREGORIAN
METHOD:PUBLISH
X-WR-CALNAME:Aphrodite Cooks
X-ORIGINAL-URL:https://aphroditecooks.com
X-WR-CALDESC:Events for Aphrodite Cooks
REFRESH-INTERVAL;VALUE=DURATION:PT1H
X-Robots-Tag:noindex
X-PUBLISHED-TTL:PT1H
BEGIN:VTIMEZONE
TZID:America/Toronto
BEGIN:DAYLIGHT
TZOFFSETFROM:-0500
TZOFFSETTO:-0400
TZNAME:EDT
DTSTART:20250309T070000
END:DAYLIGHT
BEGIN:STANDARD
TZOFFSETFROM:-0400
TZOFFSETTO:-0500
TZNAME:EST
DTSTART:20251102T060000
END:STANDARD
BEGIN:DAYLIGHT
TZOFFSETFROM:-0500
TZOFFSETTO:-0400
TZNAME:EDT
DTSTART:20260308T070000
END:DAYLIGHT
BEGIN:STANDARD
TZOFFSETFROM:-0400
TZOFFSETTO:-0500
TZNAME:EST
DTSTART:20261101T060000
END:STANDARD
BEGIN:DAYLIGHT
TZOFFSETFROM:-0500
TZOFFSETTO:-0400
TZNAME:EDT
DTSTART:20270314T070000
END:DAYLIGHT
BEGIN:STANDARD
TZOFFSETFROM:-0400
TZOFFSETTO:-0500
TZNAME:EST
DTSTART:20271107T060000
END:STANDARD
END:VTIMEZONE
BEGIN:VEVENT
DTSTART;TZID=America/Toronto:20260225T183000
DTEND;TZID=America/Toronto:20260225T210000
DTSTAMP:20260423T223708
CREATED:20251111T195747Z
LAST-MODIFIED:20260129T155842Z
UID:4720-1772044200-1772053200@aphroditecooks.com
SUMMARY:Make and Take - Knife Skills 101 - Wednesday\, February 25\, 2025 - SOLD OUT
DESCRIPTION:Good knife skills are fundamental to cooking. Knowing how to use a knife properly will determine the success of your dish. \nDon’t know what the difference between a chef’s knife\, a paring knife and a bread knife. What’s a dice and a julienne? \nLet our chef instructors guide you through the beginnings of knife skills. \nIn this make and take class you will learn the basics of knife skills and what knives are used for what purpose. After you will take home a sampling of each of the recipes that you have made. \nMinimum Class Size: 5 \nMaximum Class Size: 7 \nMenu: \nMinestrone Soup \nGreen Mango Salad \nStuffed Chicken Thighs with Sundried Tomato and Artichoke \n*menu subject to change \n**some dietary restrictions and allergies can be accommodated \nCancellation Policy \nFor scheduled cooking classes: \nMore than 1 week notice: Refund can be provided. Or rescheduling/transfer to another will be allowed. \nLess than 72 hours notice: No refund\, rescheduling or transfer will be allowed. \nNo Notice : Where a student fails to inform Aphrodite Cooks or fails to attend registered class – NO Rescheduled Class or refund will be issued. \nGift Certificate Use: Where a student intends to use a gift certificate and is unable to attend a class\, the above Cancellation policy is in effect.
URL:https://aphroditecooks.com/event/make-and-take-knife-skills-101-wednesday-february-25-2025/
LOCATION:In-Person At\, 37 Advance Rd\, 105\, Etobicoke\, Toronto\, Ontario\, Canada
ATTACH;FMTTYPE=image/jpeg:https://aphroditecooks.com/wp-content/uploads/2024/11/knife-skills-e1731444559410.jpg
END:VEVENT
END:VCALENDAR