BEGIN:VCALENDAR
VERSION:2.0
PRODID:-//Aphrodite Cooks - ECPv6.15.20//NONSGML v1.0//EN
CALSCALE:GREGORIAN
METHOD:PUBLISH
X-WR-CALNAME:Aphrodite Cooks
X-ORIGINAL-URL:https://aphroditecooks.com
X-WR-CALDESC:Events for Aphrodite Cooks
REFRESH-INTERVAL;VALUE=DURATION:PT1H
X-Robots-Tag:noindex
X-PUBLISHED-TTL:PT1H
BEGIN:VTIMEZONE
TZID:America/Toronto
BEGIN:DAYLIGHT
TZOFFSETFROM:-0500
TZOFFSETTO:-0400
TZNAME:EDT
DTSTART:20240310T070000
END:DAYLIGHT
BEGIN:STANDARD
TZOFFSETFROM:-0400
TZOFFSETTO:-0500
TZNAME:EST
DTSTART:20241103T060000
END:STANDARD
BEGIN:DAYLIGHT
TZOFFSETFROM:-0500
TZOFFSETTO:-0400
TZNAME:EDT
DTSTART:20250309T070000
END:DAYLIGHT
BEGIN:STANDARD
TZOFFSETFROM:-0400
TZOFFSETTO:-0500
TZNAME:EST
DTSTART:20251102T060000
END:STANDARD
BEGIN:DAYLIGHT
TZOFFSETFROM:-0500
TZOFFSETTO:-0400
TZNAME:EDT
DTSTART:20260308T070000
END:DAYLIGHT
BEGIN:STANDARD
TZOFFSETFROM:-0400
TZOFFSETTO:-0500
TZNAME:EST
DTSTART:20261101T060000
END:STANDARD
END:VTIMEZONE
BEGIN:VEVENT
DTSTART;TZID=America/Toronto:20251018T183000
DTEND;TZID=America/Toronto:20251018T213000
DTSTAMP:20260423T224111
CREATED:20250717T151914Z
LAST-MODIFIED:20250717T151914Z
UID:4440-1760812200-1760823000@aphroditecooks.com
SUMMARY:Cook and Dine - The Joy of French Cuisine - Saturday\, October 18\, 2025
DESCRIPTION:Discover the Joy of French Cuisine: A Hands-On Cooking Class \nStep into the heart of France without leaving your kitchen! In this immersive cooking class\, you’ll learn to prepare classic French dishes that celebrate elegance\, balance\, and bold flavor. From the comforting warmth of Poulet à l’Estragon to the delicate perfection of a silky Crème Brûlée\, this experience will guide you through the foundational techniques that define French cooking. \nWhether you’re a passionate home cook or just beginning your culinary journey\, our expert chef will provide step-by-step instruction\, professional tips\, and plenty of time to ask questions. Along the way\, you’ll explore essential methods like sautéing\, sauce-making\, and knife skills—building confidence and creativity with every dish. \nMinimum Class Size – 8 \nMaximum Class Size – 16 \nMenu: \nPoulet à l’Estragon – Chicken Fricassée with Mushrooms and White Wine Cream Sauce\nRatatouille\nPommes Duchesse\nCrème Brule – made ahead of time\, but will be demonstrated in class\n*menu subject to change \n**some dietary restrictions and allergies can be accommodated \nCancellation Policy \nFor scheduled cooking classes: \nMore than 1 week notice: Refund can be provided. Or rescheduling/transfer to another will be allowed. \nLess than 72 hours notice: No refund\, rescheduling or transfer will be allowed. \nNo Notice : Where a student fails to inform Aphrodite Cooks or fails to attend registered class – NO Rescheduled Class or refund will be issued. \nGift Certificate Use: Where a student intends to use a gift certificate and is unable to attend a class\, the above Cancellation policy is in effect.
URL:https://aphroditecooks.com/event/cook-and-dine-the-joy-of-french-cuisine-saturday-october-18-2025/
LOCATION:In-Person At\, 37 Advance Rd\, 105\, Etobicoke\, Toronto\, Ontario\, Canada
CATEGORIES:In Person Cooking
ATTACH;FMTTYPE=image/jpeg:https://aphroditecooks.com/wp-content/uploads/2025/07/creme-brule.jpg
END:VEVENT
END:VCALENDAR