BEGIN:VCALENDAR
VERSION:2.0
PRODID:-//Aphrodite Cooks - ECPv6.15.20//NONSGML v1.0//EN
CALSCALE:GREGORIAN
METHOD:PUBLISH
X-WR-CALNAME:Aphrodite Cooks
X-ORIGINAL-URL:https://aphroditecooks.com
X-WR-CALDESC:Events for Aphrodite Cooks
REFRESH-INTERVAL;VALUE=DURATION:PT1H
X-Robots-Tag:noindex
X-PUBLISHED-TTL:PT1H
BEGIN:VTIMEZONE
TZID:America/Toronto
BEGIN:DAYLIGHT
TZOFFSETFROM:-0500
TZOFFSETTO:-0400
TZNAME:EDT
DTSTART:20250309T070000
END:DAYLIGHT
BEGIN:STANDARD
TZOFFSETFROM:-0400
TZOFFSETTO:-0500
TZNAME:EST
DTSTART:20251102T060000
END:STANDARD
BEGIN:DAYLIGHT
TZOFFSETFROM:-0500
TZOFFSETTO:-0400
TZNAME:EDT
DTSTART:20260308T070000
END:DAYLIGHT
BEGIN:STANDARD
TZOFFSETFROM:-0400
TZOFFSETTO:-0500
TZNAME:EST
DTSTART:20261101T060000
END:STANDARD
BEGIN:DAYLIGHT
TZOFFSETFROM:-0500
TZOFFSETTO:-0400
TZNAME:EDT
DTSTART:20270314T070000
END:DAYLIGHT
BEGIN:STANDARD
TZOFFSETFROM:-0400
TZOFFSETTO:-0500
TZNAME:EST
DTSTART:20271107T060000
END:STANDARD
END:VTIMEZONE
BEGIN:VEVENT
DTSTART;TZID=America/Toronto:20260307T183000
DTEND;TZID=America/Toronto:20260307T213000
DTSTAMP:20260423T211904
CREATED:20251227T154654Z
LAST-MODIFIED:20260225T181915Z
UID:4969-1772908200-1772919000@aphroditecooks.com
SUMMARY:Cook and Dine - Spanish Tapas - Saturday\, March 7\, 2026
DESCRIPTION:In this Spanish Tapas cooking class\, students will explore the rich culinary traditions of Spain through its famous small plates. From savory potatoes and eggs to fresh vegetables and bold sauces\, participants will practice essential cooking techniques while learning the cultural importance of tapas as a social dining experience. The class emphasizes teamwork\, creativity\, and flavor\, making it ideal for beginner cooks and food lovers alike. \nThe class will work together to in a collaborative effort to put the menu together and then sit down to enjoy all of the dishes. \nChef Instructor: Alec Kerr \nClass Size: 16 \nMenu: \nCaramelized Onion Tortilla Espanola with saffron aioli \nCroquettes with Spanish ham \nBeef & olive Empanadas \nSpanish Marinated Steak with romesco sauce \nDessert \nChurros \n*menu subject to change \n**some dietary restrictions and allergies can be accommodated \nCancellation Policy \nFor scheduled cooking classes: \nMore than 1 week notice: Refund can be provided. Or rescheduling/transfer to another will be allowed. \nLess than 72 hours notice: No refund\, rescheduling or transfer will be allowed. \nNo Notice : Where a student fails to inform Aphrodite Cooks or fails to attend registered class – NO Rescheduled Class or refund will be issued. \nGift Certificate Use: Where a student intends to use a gift certificate and is unable to attend a class\, the above Cancellation policy is in effect.
URL:https://aphroditecooks.com/event/cook-and-dine-spanish-tapas-saturday-march-7-2026/
LOCATION:In-Person At\, 37 Advance Rd\, 105\, Etobicoke\, Toronto\, Ontario\, Canada
CATEGORIES:In Person Cooking
ATTACH;FMTTYPE=image/jpeg:https://aphroditecooks.com/wp-content/uploads/2025/12/spanish-tapas.jpg
END:VEVENT
END:VCALENDAR