BEGIN:VCALENDAR
VERSION:2.0
PRODID:-//Aphrodite Cooks - ECPv6.15.20//NONSGML v1.0//EN
CALSCALE:GREGORIAN
METHOD:PUBLISH
X-WR-CALNAME:Aphrodite Cooks
X-ORIGINAL-URL:https://aphroditecooks.com
X-WR-CALDESC:Events for Aphrodite Cooks
REFRESH-INTERVAL;VALUE=DURATION:PT1H
X-Robots-Tag:noindex
X-PUBLISHED-TTL:PT1H
BEGIN:VTIMEZONE
TZID:America/Toronto
BEGIN:DAYLIGHT
TZOFFSETFROM:-0500
TZOFFSETTO:-0400
TZNAME:EDT
DTSTART:20240310T070000
END:DAYLIGHT
BEGIN:STANDARD
TZOFFSETFROM:-0400
TZOFFSETTO:-0500
TZNAME:EST
DTSTART:20241103T060000
END:STANDARD
BEGIN:DAYLIGHT
TZOFFSETFROM:-0500
TZOFFSETTO:-0400
TZNAME:EDT
DTSTART:20250309T070000
END:DAYLIGHT
BEGIN:STANDARD
TZOFFSETFROM:-0400
TZOFFSETTO:-0500
TZNAME:EST
DTSTART:20251102T060000
END:STANDARD
BEGIN:DAYLIGHT
TZOFFSETFROM:-0500
TZOFFSETTO:-0400
TZNAME:EDT
DTSTART:20260308T070000
END:DAYLIGHT
BEGIN:STANDARD
TZOFFSETFROM:-0400
TZOFFSETTO:-0500
TZNAME:EST
DTSTART:20261101T060000
END:STANDARD
END:VTIMEZONE
BEGIN:VEVENT
DTSTART;TZID=America/Toronto:20251122T183000
DTEND;TZID=America/Toronto:20251122T213000
DTSTAMP:20260423T224225
CREATED:20250623T183452Z
LAST-MODIFIED:20251023T165939Z
UID:4398-1763836200-1763847000@aphroditecooks.com
SUMMARY:Cook and Dine - Pasta From Scratch - Saturday\, November 22 2025
DESCRIPTION:Join us in the kitchen for a hands on cooking class on how to make pasta from scratch. \nUsing ingredients that are bountiful in the fall and full of flavour. \nAfter the dishes are made you will be able to sit down in our dining area and enjoy the dishes that you have made. \nMinimum Class Size: 8 \nMaximum Class Size: 16 \nMenu: \nMushroom and Ricotta Tortelloni with Prosciutto and Walnuts \nSweet Potato Gnocchi with Rapini\, Garlic and Sage \nBeef Meatballs with Asiago and Roasted Tomato and Pepper Sauce \nSimple Salad \n*menu subject to change \n**some dietary restrictions and allergies can be accommodated \nCancellation Policy \nFor scheduled cooking classes: \nMore than 1 week notice: Refund can be provided. Or rescheduling/transfer to another will be allowed. \nLess than 72 hours notice: No refund\, rescheduling or transfer will be allowed. \nNo Notice : Where a student fails to inform Aphrodite Cooks or fails to attend registered class – NO Rescheduled Class or refund will be issued. \nGift Certificate Use: Where a student intends to use a gift certificate and is unable to attend a class\, the above Cancellation policy is in effect. \n 
URL:https://aphroditecooks.com/event/cook-and-dine-pasta-from-scratch-saturday-november-22-2025/
LOCATION:In-Person At\, 37 Advance Rd\, 105\, Etobicoke\, Toronto\, Ontario\, Canada
CATEGORIES:In Person Cooking
ATTACH;FMTTYPE=image/jpeg:https://aphroditecooks.com/wp-content/uploads/2025/06/sweet-potato-gnocchi-e1750703667987.jpg
END:VEVENT
END:VCALENDAR