BEGIN:VCALENDAR
VERSION:2.0
PRODID:-//Aphrodite Cooks - ECPv6.15.20//NONSGML v1.0//EN
CALSCALE:GREGORIAN
METHOD:PUBLISH
X-WR-CALNAME:Aphrodite Cooks
X-ORIGINAL-URL:https://aphroditecooks.com
X-WR-CALDESC:Events for Aphrodite Cooks
REFRESH-INTERVAL;VALUE=DURATION:PT1H
X-Robots-Tag:noindex
X-PUBLISHED-TTL:PT1H
BEGIN:VTIMEZONE
TZID:America/Toronto
BEGIN:DAYLIGHT
TZOFFSETFROM:-0500
TZOFFSETTO:-0400
TZNAME:EDT
DTSTART:20240310T070000
END:DAYLIGHT
BEGIN:STANDARD
TZOFFSETFROM:-0400
TZOFFSETTO:-0500
TZNAME:EST
DTSTART:20241103T060000
END:STANDARD
BEGIN:DAYLIGHT
TZOFFSETFROM:-0500
TZOFFSETTO:-0400
TZNAME:EDT
DTSTART:20250309T070000
END:DAYLIGHT
BEGIN:STANDARD
TZOFFSETFROM:-0400
TZOFFSETTO:-0500
TZNAME:EST
DTSTART:20251102T060000
END:STANDARD
BEGIN:DAYLIGHT
TZOFFSETFROM:-0500
TZOFFSETTO:-0400
TZNAME:EDT
DTSTART:20260308T070000
END:DAYLIGHT
BEGIN:STANDARD
TZOFFSETFROM:-0400
TZOFFSETTO:-0500
TZNAME:EST
DTSTART:20261101T060000
END:STANDARD
END:VTIMEZONE
BEGIN:VEVENT
DTSTART;TZID=America/Toronto:20251108T183000
DTEND;TZID=America/Toronto:20251108T213000
DTSTAMP:20260423T223635
CREATED:20250524T181508Z
LAST-MODIFIED:20250524T181508Z
UID:4335-1762626600-1762637400@aphroditecooks.com
SUMMARY:Cook and Dine - Cantonese Classics - Saturday\, November 8\, 2025
DESCRIPTION:Join us on Saturday November 8 with Mary Tang of Mary’s Happy Belly\, as she guides us through classic Cantonese dishes that will show you the difference between home made and take out! \nIn our hands on class you will cook together as a group and then sit down to enjoy the dishes that you have created. \nPrice includes class and dinner. Price is per person. \nMenu: \nVeggie Fried Rice\nChicken and cashew stir fry\nBeef with mixed veggies (Snow peas\, red peppers\, broccoli\, and baby corn)\nGai Lan with Oyster Sauce\n*menu subject to change\n\n*some dietary restrictions can be accommodated \nCancellation Policy \nFor scheduled cooking classes: \nMore than 1 week notice: Refund will be provided. Or rescheduling/transfer to another will be allowed. \nLess than 72 hours notice: No refund\, rescheduling or transfer will be allowed. \nNo Notice : Where a student fails to inform Aphrodite Cooks or fails to attend registered class – NO Rescheduled Class or refund will be issued. \nGift Certificate Use: Where a student intends to use a gift certificate and is unable to attend a class\, the above Cancellation policy is in effect.
URL:https://aphroditecooks.com/event/cook-and-dine-cantonese-classics-saturday-november-8-2025/
LOCATION:In-Person At\, 37 Advance Rd\, 105\, Etobicoke\, Toronto\, Ontario\, Canada
CATEGORIES:In Person Cooking
ATTACH;FMTTYPE=image/jpeg:https://aphroditecooks.com/wp-content/uploads/2025/05/chicken-and-cashew-stir-fry2.jpg
END:VEVENT
END:VCALENDAR